Workbook

Sheet Abrechnung
A1: Reisekostenabrechnung
A2: Gelbe Felder ausfüllen, der Rest rechnet sich. Pauschalen 2026 für Reisen im Inland, Sätze auf dem Blatt „Sätze 2026“.
A4: Name
A5: Anschrift
A6: Reiseziel
A7: Reisezweck
A8: Abfahrt | D8: Datum und Uhrzeit
A9: Rückkehr
A10: Abwesenheit | B10: =IF(OR(B8="",C8="",B9="",C9=""),"",ROUND(((B9+C9)-(B8+C8))*24,2)) | C10: Stunden, entscheidet bei eintägigen Reisen über die Pauschale
A12: 1. Fahrten mit dem eigenen Fahrzeug
A13: Datum | B13: Von | C13: Nach | D13: km einfach | E13: Hin und zurück | F13: Fahrzeug | G13: Betrag
G14: =IF(D14="","",ROUND(D14*IF(E14="nein",1,2)*IF(F14="Motorrad",'Sätze 2026'!$B$5,'Sätze 2026'!$B$4),2))
G15: =IF(D15="","",ROUND(D15*IF(E15="nein",1,2)*IF(F15="Motorrad",'Sätze 2026'!$B$5,'Sätze 2026'!$B$4),2))
G16: =IF(D16="","",ROUND(D16*IF(E16="nein",1,2)*IF(F16="Motorrad",'Sätze 2026'!$B$5,'Sätze 2026'!$B$4),2))
G17: =IF(D17="","",ROUND(D17*IF(E17="nein",1,2)*IF(F17="Motorrad",'Sätze 2026'!$B$5,'Sätze 2026'!$B$4),2))
G18: =IF(D18="","",ROUND(D18*IF(E18="nein",1,2)*IF(F18="Motorrad",'Sätze 2026'!$B$5,'Sätze 2026'!$B$4),2))
G19: =IF(D19="","",ROUND(D19*IF(E19="nein",1,2)*IF(F19="Motorrad",'Sätze 2026'!$B$5,'Sätze 2026'!$B$4),2))
G20: =IF(D20="","",ROUND(D20*IF(E20="nein",1,2)*IF(F20="Motorrad",'Sätze 2026'!$B$5,'Sätze 2026'!$B$4),2))
G21: =IF(D21="","",ROUND(D21*IF(E21="nein",1,2)*IF(F21="Motorrad",'Sätze 2026'!$B$5,'Sätze 2026'!$B$4),2))
A22: Summe Fahrtkosten | G22: =SUM(G14:G21) -> 0
A23: Leeres Feld bei Hin und zurück zählt beide Wege, leeres Fahrzeug zählt als PKW. Bahn, Flug und Taxi unter 3. mit Beleg.
A25: 2. Verpflegungsmehraufwand
A26: Datum | B26: Reisetag | C26: Frühstück gestellt | D26: Mittagessen gestellt | E26: Abendessen gestellt | F26: Pauschale | G26: Betrag
F27: =IF(B27="","",IF(B27="voller Tag (24 Std)",'Sätze 2026'!$B$7,IF(B27="eintägig bis 8 Std",0,'Sätze 2026'!$B$8))) | G27: =IF(F27="","",MAX(0,F27-IF(C27="ja",'Sätze 2026'!$B$10,0)-IF(D27="ja",'Sätze 2026'!$B$11,0)-IF(E27="ja",'Sätze 2026'!$B$12,0)))
F28: =IF(B28="","",IF(B28="voller Tag (24 Std)",'Sätze 2026'!$B$7,IF(B28="eintägig bis 8 Std",0,'Sätze 2026'!$B$8))) | G28: =IF(F28="","",MAX(0,F28-IF(C28="ja",'Sätze 2026'!$B$10,0)-IF(D28="ja",'Sätze 2026'!$B$11,0)-IF(E28="ja",'Sätze 2026'!$B$12,0)))
F29: =IF(B29="","",IF(B29="voller Tag (24 Std)",'Sätze 2026'!$B$7,IF(B29="eintägig bis 8 Std",0,'Sätze 2026'!$B$8))) | G29: =IF(F29="","",MAX(0,F29-IF(C29="ja",'Sätze 2026'!$B$10,0)-IF(D29="ja",'Sätze 2026'!$B$11,0)-IF(E29="ja",'Sätze 2026'!$B$12,0)))
F30: =IF(B30="","",IF(B30="voller Tag (24 Std)",'Sätze 2026'!$B$7,IF(B30="eintägig bis 8 Std",0,'Sätze 2026'!$B$8))) | G30: =IF(F30="","",MAX(0,F30-IF(C30="ja",'Sätze 2026'!$B$10,0)-IF(D30="ja",'Sätze 2026'!$B$11,0)-IF(E30="ja",'Sätze 2026'!$B$12,0)))
F31: =IF(B31="","",IF(B31="voller Tag (24 Std)",'Sätze 2026'!$B$7,IF(B31="eintägig bis 8 Std",0,'Sätze 2026'!$B$8))) | G31: =IF(F31="","",MAX(0,F31-IF(C31="ja",'Sätze 2026'!$B$10,0)-IF(D31="ja",'Sätze 2026'!$B$11,0)-IF(E31="ja",'Sätze 2026'!$B$12,0)))
F32: =IF(B32="","",IF(B32="voller Tag (24 Std)",'Sätze 2026'!$B$7,IF(B32="eintägig bis 8 Std",0,'Sätze 2026'!$B$8))) | G32: =IF(F32="","",MAX(0,F32-IF(C32="ja",'Sätze 2026'!$B$10,0)-IF(D32="ja",'Sätze 2026'!$B$11,0)-IF(E32="ja",'Sätze 2026'!$B$12,0)))
F33: =IF(B33="","",IF(B33="voller Tag (24 Std)",'Sätze 2026'!$B$7,IF(B33="eintägig bis 8 Std",0,'Sätze 2026'!$B$8))) | G33: =IF(F33="","",MAX(0,F33-IF(C33="ja",'Sätze 2026'!$B$10,0)-IF(D33="ja",'Sätze 2026'!$B$11,0)-IF(E33="ja",'Sätze 2026'!$B$12,0)))
F34: =IF(B34="","",IF(B34="voller Tag (24 Std)",'Sätze 2026'!$B$7,IF(B34="eintägig bis 8 Std",0,'Sätze 2026'!$B$8))) | G34: =IF(F34="","",MAX(0,F34-IF(C34="ja",'Sätze 2026'!$B$10,0)-IF(D34="ja",'Sätze 2026'!$B$11,0)-IF(E34="ja",'Sätze 2026'!$B$12,0)))
F35: =IF(B35="","",IF(B35="voller Tag (24 Std)",'Sätze 2026'!$B$7,IF(B35="eintägig bis 8 Std",0,'Sätze 2026'!$B$8))) | G35: =IF(F35="","",MAX(0,F35-IF(C35="ja",'Sätze 2026'!$B$10,0)-IF(D35="ja",'Sätze 2026'!$B$11,0)-IF(E35="ja",'Sätze 2026'!$B$12,0)))
F36: =IF(B36="","",IF(B36="voller Tag (24 Std)",'Sätze 2026'!$B$7,IF(B36="eintägig bis 8 Std",0,'Sätze 2026'!$B$8))) | G36: =IF(F36="","",MAX(0,F36-IF(C36="ja",'Sätze 2026'!$B$10,0)-IF(D36="ja",'Sätze 2026'!$B$11,0)-IF(E36="ja",'Sätze 2026'!$B$12,0)))
A37: Summe Verpflegung | G37: =SUM(G27:G36) -> 0
A38: Eine Zeile je Kalendertag. Ist das Frühstück im Hotelpreis enthalten, hier als gestellt markieren.
A39: 3. Übernachtung und Nebenkosten laut Beleg
A40: Datum | B40: Art | C40: Beschreibung | D40: Beleg-Nr. | G40: Betrag
A49: Summe Belege | G49: =SUM(G41:G48) -> 0
A50: Hotel mit dem Rechnungsbetrag eintragen, ein enthaltenes Frühstück wird unter 2. gekürzt.
A52: Gesamtbetrag | G52: =G22+G37+G49 -> 0
A55: Ort, Datum | D55: Unterschrift
A57: =HYPERLINK("https://www.tripfix.de/tools/probe-abrechnung","Auslandsreise oder keine Lust auf Formeln? Online rechnen, ohne Konto: tripfix.de") -> Auslandsreise oder keine Lust auf Formeln? Online rechnen, ohne Konto: tripfix.de
A58: Allgemeine Rechenhilfe nach den gesetzlichen Pauschalen, Stand 2026. Keine Steuerberatung, Angaben ohne Gewähr.

Sheet Sätze 2026
A1: Pauschalen 2026, Inland
A3: Position | B3: Betrag | C3: Hinweis
A4: Eigener PKW, je gefahrenem Kilometer | B4: 0.3 | C4: Hin- und Rückweg zählen beide
A5: Motorrad oder Motorroller, je Kilometer | B5: 0.2
A7: Voller Kalendertag (24 Stunden abwesend) | B7: 28 | C7: § 9 Abs. 4a EStG
A8: An- und Abreisetag, eintägig über 8 Stunden | B8: 14 | C8: § 9 Abs. 4a EStG
A10: Kürzung Frühstück gestellt | B10: 5.6 | C10: 20 % des vollen Tagessatzes
A11: Kürzung Mittagessen gestellt | B11: 11.2 | C11: 40 % des vollen Tagessatzes
A12: Kürzung Abendessen gestellt | B12: 11.2 | C12: 40 % des vollen Tagessatzes
A14: Die Kürzung richtet sich immer nach dem vollen Tagessatz, auch an An- und Abreisetagen. Ein Tag wird dadurch nie negativ.
A15: Für Auslandsreisen gelten je Land eigene Sätze aus der BMF-Tabelle. Diese Datei rechnet nur das Inland.
A17: =HYPERLINK("https://www.tripfix.de/tools/probe-abrechnung","Auslandssätze für 45 Länder rechnet tripfix automatisch") -> Auslandssätze für 45 Länder rechnet tripfix automatisch
